BEGIN:VCALENDAR
VERSION:2.0
PRODID:-//Broome Tri Club - ECPv4.5.4//NONSGML v1.0//EN
CALSCALE:GREGORIAN
METHOD:PUBLISH
X-WR-CALNAME:Broome Tri Club
X-ORIGINAL-URL:https://broometriclub.com.au
X-WR-CALDESC:Events for Broome Tri Club
BEGIN:VEVENT
DTSTART;VALUE=DATE:20170730
DTEND;VALUE=DATE:20170730
DTSTAMP:20190228T212209
CREATED:20170607T221247Z
LAST-MODIFIED:20170607T221247Z
UID:274-1501372800-1501459199@broometriclub.com.au
SUMMARY:BRAC to beach
DESCRIPTION:
URL:https://broometriclub.com.au/event/brac-to-beach/
END:VEVENT
END:VCALENDAR