BEGIN:VCALENDAR
VERSION:2.0
PRODID:-//Broome Tri Club - ECPv4.5.4//NONSGML v1.0//EN
CALSCALE:GREGORIAN
METHOD:PUBLISH
X-WR-CALNAME:Broome Tri Club
X-ORIGINAL-URL:https://broometriclub.com.au
X-WR-CALDESC:Events for Broome Tri Club
BEGIN:VEVENT
DTSTART;TZID=Australia/Perth:20180826T063000
DTEND;TZID=Australia/Perth:20180826T090000
DTSTAMP:20190228T212247
CREATED:20170607T221334Z
LAST-MODIFIED:20180827T082611Z
UID:276-1535265000-1535274000@broometriclub.com.au
SUMMARY:Broome Tri Club Series #5
DESCRIPTION:Short course: 400m/10km/3km\nLong course: 800m/20km/6km\n\n10:00am Registration\n10:15am Race Briefing\n10:30am Swim start
URL:https://broometriclub.com.au/event/broome-tri-club-series-5/
END:VEVENT
END:VCALENDAR