BEGIN:VCALENDAR
VERSION:2.0
PRODID:-//Broome Tri Club - ECPv4.5.4//NONSGML v1.0//EN
CALSCALE:GREGORIAN
METHOD:PUBLISH
X-WR-CALNAME:Broome Tri Club
X-ORIGINAL-URL:https://broometriclub.com.au
X-WR-CALDESC:Events for Broome Tri Club
BEGIN:VEVENT
DTSTART;TZID=Australia/Perth:20170609T080000
DTEND;TZID=Australia/Perth:20170609T163000
DTSTAMP:20190228T212340
CREATED:20170607T053036Z
LAST-MODIFIED:20170607T053036Z
UID:251-1496995200-1497025800@broometriclub.com.au
SUMMARY:TRYstars Triathlon
DESCRIPTION:
URL:https://broometriclub.com.au/event/trystars-triathlon/
END:VEVENT
END:VCALENDAR