BEGIN:VCALENDAR
VERSION:2.0
PRODID:-//Broome Tri Club - ECPv4.5.4//NONSGML v1.0//EN
CALSCALE:GREGORIAN
METHOD:PUBLISH
X-WR-CALNAME:Broome Tri Club
X-ORIGINAL-URL:https://broometriclub.com.au
X-WR-CALDESC:Events for Broome Tri Club
BEGIN:VEVENT
DTSTART;VALUE=DATE:20170716
DTEND;VALUE=DATE:20170716
DTSTAMP:20190228T213710
CREATED:20170607T221134Z
LAST-MODIFIED:20170607T221134Z
UID:270-1500163200-1500249599@broometriclub.com.au
SUMMARY:Broome Marathon
DESCRIPTION:
URL:https://broometriclub.com.au/event/broome-marathon/
END:VEVENT
END:VCALENDAR